BEGIN:VCALENDAR
VERSION:2.0
PRODID:-//ab/br//NONSGML v1.0//DE
CALSCALE:GREGORIAN
BEGIN:VEVENT
LOCATION:Schule Bernrain, Kreuzlingen
DESCRIPTION:Anreise SchülerInnen 13.00 Uhr
DTSTART:20260810T110000Z
DTEND;VALUE=DATE:20260811
SUMMARY:Schulstart
URL;VALUE=URI:https://jahresbericht.schule-bernrain.ch/KalenderDetail/ID/196
DTSTAMP:20260424T143114Z
UID:69eb6292e657c
END:VEVENT
END:VCALENDAR