BEGIN:VCALENDAR
VERSION:2.0
PRODID:-//ab/br//NONSGML v1.0//DE
CALSCALE:GREGORIAN
BEGIN:VEVENT
LOCATION:Schule Bernrain, Kreuzlingen
DESCRIPTION:
DTSTART:20260827T064500Z
DTEND:20260827T141000Z
SUMMARY:ProFürschi
URL;VALUE=URI:https://jahresbericht.schule-bernrain.ch/KalenderDetail/ID/197
DTSTAMP:20260424T144128Z
UID:69eb64f8829a0
END:VEVENT
END:VCALENDAR