BEGIN:VCALENDAR
VERSION:2.0
PRODID:-//ab/br//NONSGML v1.0//DE
CALSCALE:GREGORIAN
BEGIN:VEVENT
LOCATION:Schule Bernrain, Kreuzlingen
DESCRIPTION:  
DTSTART:20260824T054500Z
DTEND:20260828T111000Z
SUMMARY:Projektwoche Klasse A
URL;VALUE=URI:https://jahresbericht.schule-bernrain.ch/KalenderDetail/ID/198
DTSTAMP:20260424T144149Z
UID:69eb650de6286
END:VEVENT
END:VCALENDAR