BEGIN:VCALENDAR
VERSION:2.0
PRODID:-//ab/br//NONSGML v1.0//DE
CALSCALE:GREGORIAN
BEGIN:VEVENT
LOCATION:Schule Bernrain, Kreuzlingen
DESCRIPTION:  
DTSTART:20260831T054500Z
DTEND:20260904T111000Z
SUMMARY:Projektwoche Klasse B
URL;VALUE=URI:https://jahresbericht.schule-bernrain.ch/KalenderDetail/ID/199
DTSTAMP:20260424T144122Z
UID:69eb64f2b3210
END:VEVENT
END:VCALENDAR