BEGIN:VCALENDAR
VERSION:2.0
PRODID:-//ab/br//NONSGML v1.0//DE
CALSCALE:GREGORIAN
BEGIN:VEVENT
LOCATION:Schule Bernrain, Kreuzlingen
DESCRIPTION:  
DTSTART:20260907T054500Z
DTEND:20260911T111000Z
SUMMARY:Projektwoche Klasse D
URL;VALUE=URI:https://jahresbericht.schule-bernrain.ch/KalenderDetail/ID/200
DTSTAMP:20260424T144122Z
UID:69eb64f2593dc
END:VEVENT
END:VCALENDAR