BEGIN:VCALENDAR
VERSION:2.0
PRODID:-//ab/br//NONSGML v1.0//DE
CALSCALE:GREGORIAN
BEGIN:VEVENT
LOCATION:Schule Bernrain, Kreuzlingen
DESCRIPTION:
DTSTART:20260907T160000Z
DTEND:20260907T170000Z
SUMMARY:Elterntreff Klasse B
URL;VALUE=URI:https://jahresbericht.schule-bernrain.ch/KalenderDetail/ID/201
DTSTAMP:20260424T144122Z
UID:69eb64f2d6148
END:VEVENT
END:VCALENDAR