BEGIN:VCALENDAR
VERSION:2.0
PRODID:-//ab/br//NONSGML v1.0//DE
CALSCALE:GREGORIAN
BEGIN:VEVENT
LOCATION:Schule Bernrain, Kreuzlingen
DESCRIPTION:
DTSTART:20260907T153000Z
DTEND:20260907T160000Z
SUMMARY:Berufswahlelternabend
URL;VALUE=URI:https://jahresbericht.schule-bernrain.ch/KalenderDetail/ID/202
DTSTAMP:20260424T143544Z
UID:69eb63a0a8528
END:VEVENT
END:VCALENDAR