BEGIN:VCALENDAR
VERSION:2.0
PRODID:-//ab/br//NONSGML v1.0//DE
CALSCALE:GREGORIAN
BEGIN:VEVENT
LOCATION:Schule Bernrain, Kreuzlingen
DESCRIPTION:
DTSTART:20260917T150000Z
DTEND:20260917T160000Z
SUMMARY:Sprechstunde Autismus
URL;VALUE=URI:https://jahresbericht.schule-bernrain.ch/KalenderDetail/ID/205
DTSTAMP:20260424T144122Z
UID:69eb64f2a152e
END:VEVENT
END:VCALENDAR