BEGIN:VCALENDAR
VERSION:2.0
PRODID:-//ab/br//NONSGML v1.0//DE
CALSCALE:GREGORIAN
BEGIN:VEVENT
LOCATION:Schule Bernrain, Kreuzlingen
DESCRIPTION:
DTSTART:20260929T160000Z
DTEND:20260929T170000Z
SUMMARY:Elterntreff Klasse C
URL;VALUE=URI:https://jahresbericht.schule-bernrain.ch/KalenderDetail/ID/207
DTSTAMP:20260424T143442Z
UID:69eb6362229f7
END:VEVENT
END:VCALENDAR