BEGIN:VCALENDAR
VERSION:2.0
PRODID:-//ab/br//NONSGML v1.0//DE
CALSCALE:GREGORIAN
BEGIN:VEVENT
LOCATION:Schule Bernrain, Kreuzlingen
DESCRIPTION:
DTSTART:20261002T083000Z
DTEND:20261002T093000Z
SUMMARY:Elterntreff Klasse A + D
URL;VALUE=URI:https://jahresbericht.schule-bernrain.ch/KalenderDetail/ID/208
DTSTAMP:20260424T144128Z
UID:69eb64f86415a
END:VEVENT
END:VCALENDAR