BEGIN:VCALENDAR
VERSION:2.0
PRODID:-//ab/br//NONSGML v1.0//DE
CALSCALE:GREGORIAN
BEGIN:VEVENT
LOCATION:Schule Bernrain, Kreuzlingen
DESCRIPTION:
DTSTART:20261002T220000Z
DTEND:20251017T220000Z
SUMMARY:Herbstferien
URL;VALUE=URI:https://jahresbericht.schule-bernrain.ch/KalenderDetail/ID/209
DTSTAMP:20260424T143701Z
UID:69eb63ed7fa9d
END:VEVENT
END:VCALENDAR