BEGIN:VCALENDAR
VERSION:2.0
PRODID:-//ab/br//NONSGML v1.0//DE
CALSCALE:GREGORIAN
BEGIN:VEVENT
LOCATION:Schule Bernrain, Kreuzlingen
DESCRIPTION:
DTSTART:20261026T070000Z
DTEND:20261026T150000Z
SUMMARY:Jahrmarkt
URL;VALUE=URI:https://jahresbericht.schule-bernrain.ch/KalenderDetail/ID/211
DTSTAMP:20260424T144122Z
UID:69eb64f2976d6
END:VEVENT
END:VCALENDAR