BEGIN:VCALENDAR
VERSION:2.0
PRODID:-//ab/br//NONSGML v1.0//DE
CALSCALE:GREGORIAN
BEGIN:VEVENT
LOCATION:Schule Bernrain, Kreuzlingen
DESCRIPTION:IV Berufsberatungsgespräche
DTSTART:20261028T080000Z
DTEND:20261104T170000Z
SUMMARY:IV Berufsberatungsgespräche
URL;VALUE=URI:https://jahresbericht.schule-bernrain.ch/KalenderDetail/ID/212
DTSTAMP:20260424T144150Z
UID:69eb650e0a95c
END:VEVENT
END:VCALENDAR