BEGIN:VCALENDAR
VERSION:2.0
PRODID:-//ab/br//NONSGML v1.0//DE
CALSCALE:GREGORIAN
BEGIN:VEVENT
LOCATION:Schule Bernrain, Kreuzlingen
DESCRIPTION:
DTSTART:20261103T163000Z
DTEND:20261103T180000Z
SUMMARY:Räbeliechtliumzug
URL;VALUE=URI:https://jahresbericht.schule-bernrain.ch/KalenderDetail/ID/213
DTSTAMP:20260424T144150Z
UID:69eb650e297d9
END:VEVENT
END:VCALENDAR