BEGIN:VCALENDAR
VERSION:2.0
PRODID:-//ab/br//NONSGML v1.0//DE
CALSCALE:GREGORIAN
BEGIN:VEVENT
LOCATION:Schule Bernrain, Kreuzlingen
DESCRIPTION:
DTSTART:20261112T060000Z
DTEND:20261112T170000Z
SUMMARY:Nationaler Zukunftstag
URL;VALUE=URI:https://jahresbericht.schule-bernrain.ch/KalenderDetail/ID/214
DTSTAMP:20260424T144149Z
UID:69eb650dc6874
END:VEVENT
END:VCALENDAR