BEGIN:VCALENDAR
VERSION:2.0
PRODID:-//ab/br//NONSGML v1.0//DE
CALSCALE:GREGORIAN
BEGIN:VEVENT
LOCATION:Schule Bernrain, Kreuzlingen
DESCRIPTION:
DTSTART:20261126T074500Z
DTEND:20261126T151000Z
SUMMARY:ProFürschi
URL;VALUE=URI:https://jahresbericht.schule-bernrain.ch/KalenderDetail/ID/216
DTSTAMP:20260424T144128Z
UID:69eb64f805cda
END:VEVENT
END:VCALENDAR