BEGIN:VCALENDAR
VERSION:2.0
PRODID:-//ab/br//NONSGML v1.0//DE
CALSCALE:GREGORIAN
BEGIN:VEVENT
LOCATION:Schule Bernrain, Kreuzlingen
DESCRIPTION:
DTSTART:20261203T160000Z
DTEND:20261203T193000Z
SUMMARY:Weihnachtsstadt
URL;VALUE=URI:https://jahresbericht.schule-bernrain.ch/KalenderDetail/ID/217
DTSTAMP:20260424T143114Z
UID:69eb6292c60b3
END:VEVENT
END:VCALENDAR