BEGIN:VCALENDAR
VERSION:2.0
PRODID:-//ab/br//NONSGML v1.0//DE
CALSCALE:GREGORIAN
BEGIN:VEVENT
LOCATION:Schule Bernrain, Kreuzlingen
DESCRIPTION:
DTSTART:20261216T100000Z
DTEND:20261216T131000Z
SUMMARY:Gruppenweihnacht
URL;VALUE=URI:https://jahresbericht.schule-bernrain.ch/KalenderDetail/ID/218
DTSTAMP:20260424T144128Z
UID:69eb64f89479e
END:VEVENT
END:VCALENDAR