BEGIN:VCALENDAR
VERSION:2.0
PRODID:-//ab/br//NONSGML v1.0//DE
CALSCALE:GREGORIAN
BEGIN:VEVENT
LOCATION:Schule Bernrain, Kreuzlingen
DESCRIPTION:
DTSTART:20261218T230000Z
DTEND:20270102T230000Z
SUMMARY:Weihnachtsferien
URL;VALUE=URI:https://jahresbericht.schule-bernrain.ch/KalenderDetail/ID/219
DTSTAMP:20260424T144128Z
UID:69eb64f843d6b
END:VEVENT
END:VCALENDAR