BEGIN:VCALENDAR
VERSION:2.0
PRODID:-//ab/br//NONSGML v1.0//DE
CALSCALE:GREGORIAN
BEGIN:VEVENT
LOCATION:Schule Bernrain, Kreuzlingen
DESCRIPTION:
DTSTART:20270105T150000Z
DTEND:20270105T170000Z
SUMMARY:Sprechstunde KJPD
URL;VALUE=URI:https://jahresbericht.schule-bernrain.ch/KalenderDetail/ID/220
DTSTAMP:20260424T144128Z
UID:69eb64f8c6202
END:VEVENT
END:VCALENDAR