BEGIN:VCALENDAR
VERSION:2.0
PRODID:-//ab/br//NONSGML v1.0//DE
CALSCALE:GREGORIAN
BEGIN:VEVENT
LOCATION:Schule Bernrain, Kreuzlingen
DESCRIPTION:
DTSTART:20270129T230000Z
DTEND:20270106T230000Z
SUMMARY:Sportferien
URL;VALUE=URI:https://jahresbericht.schule-bernrain.ch/KalenderDetail/ID/222
DTSTAMP:20260424T144150Z
UID:69eb650e3e922
END:VEVENT
END:VCALENDAR