BEGIN:VCALENDAR
VERSION:2.0
PRODID:-//ab/br//NONSGML v1.0//DE
CALSCALE:GREGORIAN
BEGIN:VEVENT
LOCATION:Schule Bernrain, Kreuzlingen
DESCRIPTION:
DTSTART:20270127T093000Z
DTEND:20270210T120000Z
SUMMARY:Fasnacht
URL;VALUE=URI:https://jahresbericht.schule-bernrain.ch/KalenderDetail/ID/223
DTSTAMP:20260424T144210Z
UID:69eb6522cb025
END:VEVENT
END:VCALENDAR