BEGIN:VCALENDAR
VERSION:2.0
PRODID:-//ab/br//NONSGML v1.0//DE
CALSCALE:GREGORIAN
BEGIN:VEVENT
LOCATION:Schule Bernrain, Kreuzlingen
DESCRIPTION:
DTSTART:20270211T160000Z
DTEND:20270211T170000Z
SUMMARY:Sprechstunde Autismus
URL;VALUE=URI:https://jahresbericht.schule-bernrain.ch/KalenderDetail/ID/224
DTSTAMP:20260424T144150Z
UID:69eb650e1ca9a
END:VEVENT
END:VCALENDAR