BEGIN:VCALENDAR
VERSION:2.0
PRODID:-//ab/br//NONSGML v1.0//DE
CALSCALE:GREGORIAN
BEGIN:VEVENT
LOCATION:Schule Bernrain, Kreuzlingen
DESCRIPTION:
DTSTART:20270217T080000Z
DTEND:20270217T090000Z
SUMMARY:Zahnkontrolle
URL;VALUE=URI:https://jahresbericht.schule-bernrain.ch/KalenderDetail/ID/225
DTSTAMP:20260424T144150Z
UID:69eb650e120dd
END:VEVENT
END:VCALENDAR