BEGIN:VCALENDAR
VERSION:2.0
PRODID:-//ab/br//NONSGML v1.0//DE
CALSCALE:GREGORIAN
BEGIN:VEVENT
LOCATION:Schule Bernrain, Kreuzlingen
DESCRIPTION:
DTSTART:20270223T150000Z
DTEND:20270223T170000Z
SUMMARY:Sprechstunde KJPD
URL;VALUE=URI:https://jahresbericht.schule-bernrain.ch/KalenderDetail/ID/226
DTSTAMP:20260424T144210Z
UID:69eb6522b8978
END:VEVENT
END:VCALENDAR