BEGIN:VCALENDAR
VERSION:2.0
PRODID:-//ab/br//NONSGML v1.0//DE
CALSCALE:GREGORIAN
BEGIN:VEVENT
LOCATION:Schule Bernrain, Kreuzlingen
DESCRIPTION:
DTSTART:20270224T080000Z
DTEND:20270224T090000Z
SUMMARY:Zahnkontrolle
URL;VALUE=URI:https://jahresbericht.schule-bernrain.ch/KalenderDetail/ID/227
DTSTAMP:20260424T144128Z
UID:69eb64f8ad4b9
END:VEVENT
END:VCALENDAR