BEGIN:VCALENDAR
VERSION:2.0
PRODID:-//ab/br//NONSGML v1.0//DE
CALSCALE:GREGORIAN
BEGIN:VEVENT
LOCATION:Schule Bernrain, Kreuzlingen
DESCRIPTION:
DTSTART:20270325T230000Z
DTEND:20270410T220000Z
SUMMARY:Osterferien
URL;VALUE=URI:https://jahresbericht.schule-bernrain.ch/KalenderDetail/ID/228
DTSTAMP:20260424T144149Z
UID:69eb650dc24da
END:VEVENT
END:VCALENDAR