BEGIN:VCALENDAR
VERSION:2.0
PRODID:-//ab/br//NONSGML v1.0//DE
CALSCALE:GREGORIAN
BEGIN:VEVENT
LOCATION:Schule Bernrain, Kreuzlingen
DESCRIPTION:
DTSTART:20270427T140000Z
DTEND:20270427T160000Z
SUMMARY:Sprechstunde KJPD
URL;VALUE=URI:https://jahresbericht.schule-bernrain.ch/KalenderDetail/ID/229
DTSTAMP:20260424T143430Z
UID:69eb635678850
END:VEVENT
END:VCALENDAR