BEGIN:VCALENDAR
VERSION:2.0
PRODID:-//ab/br//NONSGML v1.0//DE
CALSCALE:GREGORIAN
BEGIN:VEVENT
LOCATION:Schule Bernrain, Kreuzlingen
DESCRIPTION:
DTSTART:20270429T064500Z
DTEND:20270429T141000Z
SUMMARY:ProFürschi
URL;VALUE=URI:https://jahresbericht.schule-bernrain.ch/KalenderDetail/ID/230
DTSTAMP:20260424T144210Z
UID:69eb6522d3d8a
END:VEVENT
END:VCALENDAR