BEGIN:VCALENDAR
VERSION:2.0
PRODID:-//ab/br//NONSGML v1.0//DE
CALSCALE:GREGORIAN
BEGIN:VEVENT
LOCATION:Schule Bernrain, Kreuzlingen
DESCRIPTION:
DTSTART:20270505T054500Z
DTEND:20270505T080000Z
SUMMARY:Frühlings-Zmorge
URL;VALUE=URI:https://jahresbericht.schule-bernrain.ch/KalenderDetail/ID/231
DTSTAMP:20260424T144122Z
UID:69eb64f2c6791
END:VEVENT
END:VCALENDAR