BEGIN:VCALENDAR
VERSION:2.0
PRODID:-//ab/br//NONSGML v1.0//DE
CALSCALE:GREGORIAN
BEGIN:VEVENT
LOCATION:Schule Bernrain, Kreuzlingen
DESCRIPTION:
DTSTART:20270505T220000Z
DTEND:20270516T220000Z
SUMMARY:Pfingstferien
URL;VALUE=URI:https://jahresbericht.schule-bernrain.ch/KalenderDetail/ID/232
DTSTAMP:20260424T144040Z
UID:69eb64c8e5690
END:VEVENT
END:VCALENDAR