BEGIN:VCALENDAR
VERSION:2.0
PRODID:-//ab/br//NONSGML v1.0//DE
CALSCALE:GREGORIAN
BEGIN:VEVENT
LOCATION:Schule Bernrain, Kreuzlingen
DESCRIPTION:
DTSTART:20270622T140000Z
DTEND:20270622T160000Z
SUMMARY:Sprechstunde KJPD
URL;VALUE=URI:https://jahresbericht.schule-bernrain.ch/KalenderDetail/ID/235
DTSTAMP:20260424T144128Z
UID:69eb64f843ca1
END:VEVENT
END:VCALENDAR