BEGIN:VCALENDAR
VERSION:2.0
PRODID:-//ab/br//NONSGML v1.0//DE
CALSCALE:GREGORIAN
BEGIN:VEVENT
LOCATION:Schule Bernrain, Kreuzlingen
DESCRIPTION:
DTSTART:20270630T054500Z
DTEND:20270630T100000Z
SUMMARY:Spiel ohne Grenzen
URL;VALUE=URI:https://jahresbericht.schule-bernrain.ch/KalenderDetail/ID/236
DTSTAMP:20260424T143319Z
UID:69eb630fcbacb
END:VEVENT
END:VCALENDAR