BEGIN:VCALENDAR
VERSION:2.0
PRODID:-//ab/br//NONSGML v1.0//DE
CALSCALE:GREGORIAN
BEGIN:VEVENT
LOCATION:Schule Bernrain, Kreuzlingen
DESCRIPTION:
DTSTART:20270707T054500Z
DTEND:20270707T100000Z
SUMMARY:Spiel ohne Grenzen (Verschiebedatum)
URL;VALUE=URI:https://jahresbericht.schule-bernrain.ch/KalenderDetail/ID/237
DTSTAMP:20260424T144122Z
UID:69eb64f2c0fa8
END:VEVENT
END:VCALENDAR