BEGIN:VCALENDAR
VERSION:2.0
PRODID:-//ab/br//NONSGML v1.0//DE
CALSCALE:GREGORIAN
BEGIN:VEVENT
LOCATION:Schule Bernrain, Kreuzlingen
DESCRIPTION:
DTSTART:20270709T220000Z
DTEND:20270807T220000Z
SUMMARY:Sommerferien
URL;VALUE=URI:https://jahresbericht.schule-bernrain.ch/KalenderDetail/ID/238
DTSTAMP:20260424T144128Z
UID:69eb64f824b24
END:VEVENT
END:VCALENDAR