BEGIN:VCALENDAR
VERSION:2.0
PRODID:-//ab/br//NONSGML v1.0//DE
CALSCALE:GREGORIAN
BEGIN:VEVENT
LOCATION:Schule Bernrain, Kreuzlingen
DESCRIPTION:
DTSTART:20270307T110000Z
DTEND:20270312T123000Z
SUMMARY:Skilager
URL;VALUE=URI:https://jahresbericht.schule-bernrain.ch/KalenderDetail/ID/239
DTSTAMP:20260424T144122Z
UID:69eb64f2d8293
END:VEVENT
END:VCALENDAR