BEGIN:VCALENDAR
VERSION:2.0
PRODID:-//ab/br//NONSGML v1.0//DE
CALSCALE:GREGORIAN
BEGIN:VEVENT
LOCATION:Schule Bernrain, Kreuzlingen
DESCRIPTION:Schulfrei
DTSTART:20270315T060000Z
DTEND:20270315T160000Z
SUMMARY:Kompensationstag Skilager
URL;VALUE=URI:https://jahresbericht.schule-bernrain.ch/KalenderDetail/ID/240
DTSTAMP:20260424T144150Z
UID:69eb650e5a3b2
END:VEVENT
END:VCALENDAR