BEGIN:VCALENDAR
VERSION:2.0
PRODID:-//ab/br//NONSGML v1.0//DE
CALSCALE:GREGORIAN
BEGIN:VEVENT
LOCATION:Schule Bernrain, Kreuzlingen
DESCRIPTION:
DTSTART:20261116T070000Z
DTEND:20261116T110000Z
SUMMARY:Schularzt
URL;VALUE=URI:https://jahresbericht.schule-bernrain.ch/KalenderDetail/ID/241
DTSTAMP:20260424T144122Z
UID:69eb64f2782a7
END:VEVENT
END:VCALENDAR